BEGIN:VCALENDAR
VERSION:2.0
PRODID:-//jEvents 2.0 for Joomla//EN
CALSCALE:GREGORIAN
METHOD:PUBLISH
BEGIN:VEVENT
UID:b76905fa3643df8295fdd2c3cdc2edd3
CATEGORIES:Canyon
CREATED:20231001T191120
SUMMARY:Soirée techniques canyon
LOCATION:SAE Complexe Savignol\, Seysses
URL;VALUE=URI:https://muretmontagne.fr/index.php/programme/detailevenement/2924/-/soiree-
 techniques-canyon?tmpl=component
DESCRIPTION:Soirée techniques verticales canyon organisée par les encadrants de Muret M
 ontagne et Frouzins Montagne.\nAtelier prévu : "le sac du père Noël" (conte
 nu et gestion du sac)\nLes encadrants qui veulent aider à la réalisation de
 s ateliers sont invités à venir à 19h30\nVenir avec son/ses sacs canyons et
  son contenu. Décorez-le pour l'occasion ou venez déguisés.\nVous débutez e
 t n'avez pas de sac venez avec une hotte de père Noël et quelques friandise
 s. \nPeuvent être pris également : kit-boule, chaussons d'escalade, ...\nS'
 inscrire sur le sondage suivant : https://date.chapril.org/sFthJGp8RSAAYlWL
  (https://date.chapril.org/sFthJGp8RSAAYlWL)\n \n Cet évènement a été impor
 té depuis :https://muretmontagne.fr/index.php/programme/detailevenement/292
 4/-/soiree-techniques-canyon?tmpl=component (https://muretmontagne.fr/index
 .php/programme/detailevenement/2924/-/soiree-techniques-canyon?tmpl=compone
 nt)
X-ALT-DESC;FMTTYPE=text/html:<p>Soirée techniques verticales canyon organisée par les encadrants de Mure
 t Montagne et Frouzins Montagne.</p><p>Atelier prévu : "le sac du père Noël
 " (contenu et gestion du sac)</p><p>Les encadrants qui veulent aider à la r
 éalisation des ateliers sont invités à venir à 19h30</p><p>Venir avec son/s
 es sacs canyons et son contenu. Décorez-le pour l'occasion ou venez déguisé
 s.<br />Vous débutez et n'avez pas de sac venez avec une hotte de père Noël
  et quelques friandises. <br />Peuvent être pris également : kit-boule, cha
 ussons d'escalade, ...</p><p>S'inscrire sur le sondage suivant : <a href="h
 ttps://date.chapril.org/sFthJGp8RSAAYlWL">https://date.chapril.org/sFthJGp8
 RSAAYlWL</a></p><p> </p> <a href="https://muretmontagne.fr/index.php/progra
 mme/detailevenement/2924/-/soiree-techniques-canyon?tmpl=component">Cet évè
 nement a été importé depuis :https://muretmontagne.fr/index.php/programme/d
 etailevenement/2924/-/soiree-techniques-canyon?tmpl=component</a>CONTACT:David (06 74 92 25 36)
DTSTAMP:20260423T004352
DTSTART:20231212T190000
DTEND:20231212T210000
SEQUENCE:0
TRANSP:OPAQUE
END:VEVENT
END:VCALENDAR