BEGIN:VCALENDAR
VERSION:2.0
PRODID:-//jEvents 2.0 for Joomla//EN
CALSCALE:GREGORIAN
METHOD:PUBLISH
BEGIN:VEVENT
UID:864741ec939e54bc6a1958b167ab9e9e
CATEGORIES:Canyon
CREATED:20221207T001554
SUMMARY:Soirée techniques canyon
LOCATION:SAE Complexe Savignol\, Seysses
URL;VALUE=URI:https://muretmontagne.fr/index.php/programme/detailevenement/1077/-/soiree-
 techniques-canyon?tmpl=component
DESCRIPTION:Soirée techniques verticales canyon :\nVenir avec son casque, son baudrier 
 canyon et matériel habituel présent dessus.\nPeuvent être pris également : 
 kit-boule, chaussons d'escalade, ...\nAtelier prévu : débrayable du bas\n E
 nvoyer un sms à David Roger pour s'inscrire avec le matériel de prêt désiré
  si besoin.\n Cet évènement a été importé depuis :https://muretmontagne.fr/
 index.php/programme/detailevenement/1077/-/soiree-techniques-canyon?tmpl=co
 mponent
X-ALT-DESC;FMTTYPE=text/html:<p>Soirée techniques verticales canyon :</p><p>Venir avec son casque, son b
 audrier canyon et matériel habituel présent dessus.<br />Peuvent être pris 
 également : kit-boule, chaussons d'escalade, ...</p><p>Atelier prévu : débr
 ayable du bas</p><p> Envoyer un sms à David Roger pour s'inscrire avec le m
 atériel de prêt désiré si besoin.</p> <a href="https://muretmontagne.fr/ind
 ex.php/programme/detailevenement/1077/-/soiree-techniques-canyon?tmpl=compo
 nent">Cet évènement a été importé depuis :https://muretmontagne.fr/index.ph
 p/programme/detailevenement/1077/-/soiree-techniques-canyon?tmpl=component<
 /a>CONTACT:David Roger (06 74 92 25 36)
DTSTAMP:20260423T022907
DTSTART:20230103T190000
DTEND:20230103T210000
SEQUENCE:0
TRANSP:OPAQUE
END:VEVENT
END:VCALENDAR